BEGIN:VCALENDAR
VERSION:2.0
PRODID:-//Festival of Ideas - ECPv6.15.20//NONSGML v1.0//EN
CALSCALE:GREGORIAN
METHOD:PUBLISH
X-WR-CALNAME:Festival of Ideas
X-ORIGINAL-URL:https://festivalofideas.chester.ac.uk
X-WR-CALDESC:Events for Festival of Ideas
REFRESH-INTERVAL;VALUE=DURATION:PT1H
X-Robots-Tag:noindex
X-PUBLISHED-TTL:PT1H
BEGIN:VTIMEZONE
TZID:Europe/London
BEGIN:DAYLIGHT
TZOFFSETFROM:+0000
TZOFFSETTO:+0100
TZNAME:BST
DTSTART:20250330T010000
END:DAYLIGHT
BEGIN:STANDARD
TZOFFSETFROM:+0100
TZOFFSETTO:+0000
TZNAME:GMT
DTSTART:20251026T010000
END:STANDARD
BEGIN:DAYLIGHT
TZOFFSETFROM:+0000
TZOFFSETTO:+0100
TZNAME:BST
DTSTART:20260329T010000
END:DAYLIGHT
BEGIN:STANDARD
TZOFFSETFROM:+0100
TZOFFSETTO:+0000
TZNAME:GMT
DTSTART:20261025T010000
END:STANDARD
BEGIN:DAYLIGHT
TZOFFSETFROM:+0000
TZOFFSETTO:+0100
TZNAME:BST
DTSTART:20270328T010000
END:DAYLIGHT
BEGIN:STANDARD
TZOFFSETFROM:+0100
TZOFFSETTO:+0000
TZNAME:GMT
DTSTART:20271031T010000
END:STANDARD
END:VTIMEZONE
BEGIN:VEVENT
DTSTART;TZID=Europe/London:20260702T143000
DTEND;TZID=Europe/London:20260702T153000
DTSTAMP:20260421T134227
CREATED:20260107T070042Z
LAST-MODIFIED:20260417T132221Z
UID:10000645-1783002600-1783006200@festivalofideas.chester.ac.uk
SUMMARY:Walking and Cycling to a Better Future?
DESCRIPTION:Cycling is well known as an essential part of sustainable transport planning. This public lecture from Peter Cox\, Emeritus Professor at the University of Chester and internationally acclaimed writer on cycling and sustainable travel\, will explore the implications of taking walking and cycling as the starting point of thinking about movement; not just including them in travel plans.
URL:https://festivalofideas.chester.ac.uk/event/walking-and-cycling-to-a-better-future/
LOCATION:Chester Picturehouse\, Unit 10 Hunter Street\, Chester\, CH1 2AR\, United Kingdom
CATEGORIES:Public Talk
ATTACH;FMTTYPE=image/jpeg:https://festivalofideas.chester.ac.uk/wp-content/uploads/2026/01/Peter-Cox-9781908258113.jpg
END:VEVENT
END:VCALENDAR